BEGIN:VCALENDAR
VERSION:2.0
PRODID:franziska-schubert.de
METHOD:PUBLISH
BEGIN:VTIMEZONE
TZID:Europe/Berlin
X-LIC-LOCATION:Europe/Berlin
BEGIN:DAYLIGHT
TZOFFSETFROM:+0100
TZOFFSETTO:+0200
TZNAME:CEST
DTSTART:19700329T020000
RRULE:FREQ=YEARLY;INTERVAL=1;BYDAY=-1SU;BYMONTH=3
END:DAYLIGHT
BEGIN:STANDARD
TZOFFSETFROM:+0200
TZOFFSETTO:+0100
TZNAME:CET
DTSTART:19701025T030000
RRULE:FREQ=YEARLY;INTERVAL=1;BYDAY=-1SU;BYMONTH=10
END:STANDARD
END:VTIMEZONE
BEGIN:VEVENT
UID:6cf621c13f97a087dab0e3d0e56964dd@franziska-schubert.de
URL;VALUE=URI:https://franziska-schubert.de/termine/zuckertuetenfest/
LOCATION:WIlhelmsplatz Görlitz, Görlitz
SUMMARY:Zuckertütenfest
DESCRIPTION;ALTREP="data:text/html,%0A%3Cp%3E%3Cimg%20height%3D%2216%22%2
 0width%3D%2216%22%20alt%3D%22%F0%9F%94%A4%22%20src%3D%22https%3A%2F%2Fsta
 tic.xx.fbcdn.net%2Fimages%2Femoji.php%2Fv9%2Ftcf%2F1%2F16%2F1f524.png%22%
 3E%20Bald%20geht%20die%20Schule%20los%21%20%3Cimg%20height%3D%2216%22%20w
 idth%3D%2216%22%20alt%3D%22%F0%9F%91%A8%E2%80%8D%F0%9F%8F%AB%22%20src%3D%
 22https%3A%2F%2Fstatic.xx.fbcdn.net%2Fimages%2Femoji.php%2Fv9%2Ftb5%2F1%2
 F16%2F1f468_200d_1f3eb.png%22%3E%3Cimg%20height%3D%2216%22%20width%3D%221
 6%22%20alt%3D%22%F0%9F%91%A9%E2%80%8D%F0%9F%8F%AB%22%20src%3D%22https%3A%
 2F%2Fstatic.xx.fbcdn.net%2Fimages%2Femoji.php%2Fv9%2Ft94%2F1%2F16%2F1f469
 _200d_1f3eb.png%22%3E%3Cbr%3EIch%20lade%20euch%20ganz%20herzlich%20zum%20
 Zuckert%C3%BCtenfest%20am%20Samstag%2C%2003.%20August%202024%20nach%20G%C
 3%B6rlitz%20auf%20den%20Wilhelmsplatz%20ein%21%20%3Cimg%20height%3D%2216%
 22%20width%3D%2216%22%20alt%3D%22%F0%9F%8E%89%22%20src%3D%22https%3A%2F%2
 Fstatic.xx.fbcdn.net%2Fimages%2Femoji.php%2Fv9%2Ft8c%2F1%2F16%2F1f389.png
 %22%3E%3Cbr%3EVon%2011%3A30%20Uhr%20bis%2014%3A30%20Uhr%20warten%20auf%20
 Gro%C3%9F%20und%20Klein%20viele%20bunte%20%C3%9Cberraschungen.%20Basteln%
 2C%20Toben%20und%20Genie%C3%9Fen%20%E2%80%93%20es%20ist%20sicher%20f%C3%B
 Cr%20jeden%20etwas%20dabei.%3Cbr%3ELasst%20uns%20dabei%20gern%20ins%20Ges
 pr%C3%A4ch%20kommen%20%E2%80%93%20berichtet%20mir%20von%20euren%20sch%C3%
 B6nsten%20Ferienerlebnissen%20und%20auf%20welches%20Schulfach%20ihr%20euc
 h%20am%20meisten%20freut.%3Cbr%3ESchnappt%20eure%20Freunde%2C%20Eltern%20
 und%20Gro%C3%9Feltern%20und%20kommt%20vorbei%21%3C%2Fp%3E%0A":Bald geht d
 ie Schule los! Ich lade euch ganz herzlich zum Zuckertütenfest am Samsta
 g\, 03. August 2024 nach Görlitz auf den Wilhelmsplatz ein! Von 11:30 Uh
 r bis 14:30 Uhr warten auf Groß und Klein viele bunte Überraschungen. B
 asteln\, Toben und Genießen – es ist sicher für jeden etwas dabei.Las
 st uns dabei gern ins Gespräch kommen – berichtet mir von euren schön
 sten Ferienerlebnissen und auf welches Schulfach ihr euch am meisten freu
 t.Schnappt eure Freunde\, Eltern und Großeltern und kommt vorbei!
CLASS:PUBLIC
DTSTART;TZID=Europe/Berlin:20240803T113000
DTEND;TZID=Europe/Berlin:20240803T143000
DTSTAMP:20260423T192231
END:VEVENT
END:VCALENDAR