BEGIN:VCALENDAR
VERSION:2.0
PRODID:franziska-schubert.de
METHOD:PUBLISH
BEGIN:VTIMEZONE
TZID:Europe/Berlin
X-LIC-LOCATION:Europe/Berlin
BEGIN:DAYLIGHT
TZOFFSETFROM:+0100
TZOFFSETTO:+0200
TZNAME:CEST
DTSTART:19700329T020000
RRULE:FREQ=YEARLY;INTERVAL=1;BYDAY=-1SU;BYMONTH=3
END:DAYLIGHT
BEGIN:STANDARD
TZOFFSETFROM:+0200
TZOFFSETTO:+0100
TZNAME:CET
DTSTART:19701025T030000
RRULE:FREQ=YEARLY;INTERVAL=1;BYDAY=-1SU;BYMONTH=10
END:STANDARD
END:VTIMEZONE
BEGIN:VEVENT
UID:203dab16395ba2e631ac67f3ea78b1b0@franziska-schubert.de
URL;VALUE=URI:https://franziska-schubert.de/termine/wasserexkursion-mit-f
 ranziska/
LOCATION:Weißwasser und Umgebung
SUMMARY:Wasserexkursion mit Franziska
DESCRIPTION;ALTREP="data:text/html,%0A%3Cp%3EMit%20Start%20an%20der%20Nat
 urschutzstation%20Wei%C3%9Fwasser%20geht%20es%20an%20den%20Braunsteich%2C
 %20den%20Halbendorfer%20See%20und%20nach%20M%C3%BChlrose%20zum%20Grubenwa
 sserableiter.%20Wir%20unterhalten%20uns%20mit%20Akteuren%20vor%20Ort%20wi
 e%20der%20LMBV%20und%20den%20Kolleg%3Ainnen%20der%20Naturschutzstation%20
 %C3%BCber%20die%20aktuelle%20Situation%20zur%20Wasserqualit%C3%A4t%20und%
 20zum%20Wasserhaushalt%20im%20Raum%20Wei%C3%9Fwasser.%3C%2Fp%3E%0A%0A%0A%
 0A%3Cp%3EAnmeldungen%20bitte%20bis%20zum%2025.%20Juli%2018%20Uhr%20an%20%
 3Ca%20href%3D%22mailto%3Acarolin.renner%40franziska-schubert.de%22%3Ecaro
 lin.renner%40franziska-schubert.de%3C%2Fa%3E%20f%C3%BCr%20den%20genauen%2
 0Treffpunkt%20und%20Ablaufplan%20der%20Exkursion.%20Festes%20Schuhwerk%20
 und%20lange%20Kleidung%20empfohlen%21%3C%2Fp%3E%0A":Mit Start an der Natu
 rschutzstation Weißwasser geht es an den Braunsteich\, den Halbendorfer 
 See und nach Mühlrose zum Grubenwasserableiter. Wir unterhalten uns mit 
 Akteuren vor Ort wie der LMBV und den Kolleg:innen der Naturschutzstation
  über die aktuelle Situation zur Wasserqualität und zum Wasserhaushalt 
 im Raum Weißwasser.\n\nAnmeldungen bitte bis zum 25. Juli 18 Uhr an caro
 lin.renner@franziska-schubert.de für den genauen Treffpunkt und Ablaufpl
 an der Exkursion. Festes Schuhwerk und lange Kleidung empfohlen!
CLASS:PUBLIC
DTSTART;TZID=Europe/Berlin:20240726T150000
DTEND;TZID=Europe/Berlin:20240726T180000
DTSTAMP:20260426T022113
END:VEVENT
END:VCALENDAR